BEGIN:VCALENDAR
VERSION:2.0
PRODID:-//Networks, Data, and Society (NERDS) - ECPv6.15.20//NONSGML v1.0//EN
CALSCALE:GREGORIAN
METHOD:PUBLISH
X-ORIGINAL-URL:https://nerds.itu.dk
X-WR-CALDESC:Events for Networks, Data, and Society (NERDS)
REFRESH-INTERVAL;VALUE=DURATION:PT1H
X-Robots-Tag:noindex
X-PUBLISHED-TTL:PT1H
BEGIN:VTIMEZONE
TZID:Europe/Copenhagen
BEGIN:DAYLIGHT
TZOFFSETFROM:+0100
TZOFFSETTO:+0200
TZNAME:CEST
DTSTART:20180325T010000
END:DAYLIGHT
BEGIN:STANDARD
TZOFFSETFROM:+0200
TZOFFSETTO:+0100
TZNAME:CET
DTSTART:20181028T010000
END:STANDARD
BEGIN:DAYLIGHT
TZOFFSETFROM:+0100
TZOFFSETTO:+0200
TZNAME:CEST
DTSTART:20190331T010000
END:DAYLIGHT
BEGIN:STANDARD
TZOFFSETFROM:+0200
TZOFFSETTO:+0100
TZNAME:CET
DTSTART:20191027T010000
END:STANDARD
BEGIN:DAYLIGHT
TZOFFSETFROM:+0100
TZOFFSETTO:+0200
TZNAME:CEST
DTSTART:20200329T010000
END:DAYLIGHT
BEGIN:STANDARD
TZOFFSETFROM:+0200
TZOFFSETTO:+0100
TZNAME:CET
DTSTART:20201025T010000
END:STANDARD
END:VTIMEZONE
BEGIN:VEVENT
DTSTART;VALUE=DATE:20190904
DTEND;VALUE=DATE:20190909
DTSTAMP:20260424T091438
CREATED:20190918T082209Z
LAST-MODIFIED:20191003T114516Z
UID:187-1567555200-1567987199@nerds.itu.dk
SUMMARY:Roberta @ Metascience Conference 2019
DESCRIPTION:Roberta will give an invited talk at the Metascience Conference 2019\, hosted at Stanford University\, in Palo Alto.  \n \nThis is the topic of the conference: \nDuring this decade\, we have witnessed the emergence of a new discipline called metascience\, metaresearch\, or the science of science. Most exciting is the fact that this is emerging as a truly interdisciplinary enterprise with contributors from every domain of research. This symposium serves as a formative meeting for metascience as a discipline. The meeting will bring together leading scholars that are investigating questions related to themes such as: \n\nHow do scientists generate ideas?\nHow are our statistics\, methods\, and measurement practices affecting our capacity to identify robust findings?\nDoes the distinction between exploratory and confirmatory research matter?\nWhat is replication and its impact and its value?\nHow do scientists interpret and treat evidence?\nWhat are the cultures and norms of science?\n\n 
URL:https://nerds.itu.dk/event/roberta-metascience-conference-2019/
LOCATION:Stanford University\, Palo Alto\, CA\, United States
CATEGORIES:NERDS away
END:VEVENT
BEGIN:VEVENT
DTSTART;TZID=Europe/Copenhagen:20190907T130000
DTEND;TZID=Europe/Copenhagen:20190907T150000
DTSTAMP:20260424T091438
CREATED:20190905T081459Z
LAST-MODIFIED:20190905T081459Z
UID:181-1567861200-1567868400@nerds.itu.dk
SUMMARY:NERDS @ Techfest: The Future of Social Media Data Research
DESCRIPTION:We’re participating at Techfest 2019 a 3-day festival in Copenhagen with 200+ events on humans and technology.\nWe will coordinate a session about The Future of Social Media Data Research: Let’s Do It Right When it Comes to Data\, Privacy and Public-Interest \nSession presentation:\nSocial media has become a central data source for the study of individual as well as societal issues. The unprecedented scale and granularity of this type of data allow researchers to observe social dynamics as they unfold and hold high potential. Nevertheless\, recent scandals and data-breaches such as in the case of Cambridge Analytica\, and the social media platforms’ reaction\, have shown the potential contradictions underlying this kind of research. Who holds the right to do public-interest research on this data? How to make it freely available for researchers? Who should be hold accountable?\nThis session will discuss these questions that will play a central role in shaping the future of research in many fields.
URL:https://nerds.itu.dk/event/nerds-techfest-the-future-of-social-media-data-research/
LOCATION:Rysensteen\, Flæsketorvet 60\, 1711 København\, Flæsketorvet 60\, \,  København\, 1711\, Denmark
CATEGORIES:NERDS away
END:VEVENT
BEGIN:VEVENT
DTSTART;VALUE=DATE:20190925
DTEND;VALUE=DATE:20190926
DTSTAMP:20260424T091438
CREATED:20190918T085602Z
LAST-MODIFIED:20191003T114516Z
UID:201-1569369600-1569455999@nerds.itu.dk
SUMMARY:Colloquium at SISSA - Scuola Internazionale Superiore di Studi Avanzati
DESCRIPTION:Roberta will give a Colloquium at SISSA. Here the link to the event.
URL:https://nerds.itu.dk/event/colloquium-at-sissa-scuola-internazionale-superiore-di-studi-avanzati/
LOCATION:SISSA\, Trieste\, Italy
CATEGORIES:NERDS away
END:VEVENT
END:VCALENDAR