BEGIN:VCALENDAR
VERSION:2.0
PRODID:-//Networks, Data, and Society (NERDS) - ECPv6.15.20//NONSGML v1.0//EN
CALSCALE:GREGORIAN
METHOD:PUBLISH
X-ORIGINAL-URL:https://nerds.itu.dk
X-WR-CALDESC:Events for Networks, Data, and Society (NERDS)
REFRESH-INTERVAL;VALUE=DURATION:PT1H
X-Robots-Tag:noindex
X-PUBLISHED-TTL:PT1H
BEGIN:VTIMEZONE
TZID:Europe/Copenhagen
BEGIN:DAYLIGHT
TZOFFSETFROM:+0100
TZOFFSETTO:+0200
TZNAME:CEST
DTSTART:20210328T010000
END:DAYLIGHT
BEGIN:STANDARD
TZOFFSETFROM:+0200
TZOFFSETTO:+0100
TZNAME:CET
DTSTART:20211031T010000
END:STANDARD
BEGIN:DAYLIGHT
TZOFFSETFROM:+0100
TZOFFSETTO:+0200
TZNAME:CEST
DTSTART:20220327T010000
END:DAYLIGHT
BEGIN:STANDARD
TZOFFSETFROM:+0200
TZOFFSETTO:+0100
TZNAME:CET
DTSTART:20221030T010000
END:STANDARD
BEGIN:DAYLIGHT
TZOFFSETFROM:+0100
TZOFFSETTO:+0200
TZNAME:CEST
DTSTART:20230326T010000
END:DAYLIGHT
BEGIN:STANDARD
TZOFFSETFROM:+0200
TZOFFSETTO:+0100
TZNAME:CET
DTSTART:20231029T010000
END:STANDARD
END:VTIMEZONE
BEGIN:VEVENT
DTSTART;TZID=Europe/Copenhagen:20220401T100000
DTEND;TZID=Europe/Copenhagen:20220401T110000
DTSTAMP:20260422T120050
CREATED:20220328T130817Z
LAST-MODIFIED:20220328T184228Z
UID:988-1648807200-1648810800@nerds.itu.dk
SUMMARY:Talk: Luca Maria Aiello at ANET Lab Seminar Series
DESCRIPTION:Abstract \nSocial relationships are the key determinant of crucial societal outcomes\, including diffusion of innovation\, productivity\, happiness\, and life expectancy. To better attain such outcomes at scale\, it is therefore paramount to have technologies that can effectively capture the type of social relationships from digital data. NLP researchers have tried to do so from conversational text but mostly focusing on sentiment or topic mining\, techniques that fall short on either conciseness or exhaustiveness. We propose a theoretical model of 10 dimensions (colors) of social relationships that is backed by decades of research in social sciences and that captures most of the common relationship types. We trained a deep-learning model to classify text along these ten dimensions\, and we reached performance up to 0.98 AUC. By applying this tool on large-scale conversational data\, we show that the combination of the predicted dimensions suggests both the types of relationships people entertain and the types of real-world communities they shape. \nBio \nLuca Aiello is an Associate Professor at the IT University of Copenhagen. Previously\, he worked for 10 years as a Research Scientist in the industry: at Yahoo Labs in Barcelona\, and at Bell Labs in Cambridge (UK). He conducts research in Computational Social Science\, a field of studies that uses Social Science theories to inform solutions to Data Science problems. His work focuses on the analysis of conversations and collective behavior through the lens of machine-learning algorithms applied to large scale data. He was recently awarded the Carlsberg Young Investigator Fellowship to study how to build technologies to support collective cooperation in the face of societal dilemmas. \nSign up at: http://anet.krtk.mta.hu/seminars/
URL:https://nerds.itu.dk/event/talk-luca-maria-aiello-at-anet-lab-seminar-series/
CATEGORIES:NERDS away
END:VEVENT
END:VCALENDAR