BEGIN:VCALENDAR
VERSION:2.0
PRODID:-//Networks, Data, and Society (NERDS) - ECPv6.15.20//NONSGML v1.0//EN
CALSCALE:GREGORIAN
METHOD:PUBLISH
X-ORIGINAL-URL:https://nerds.itu.dk
X-WR-CALDESC:Events for Networks, Data, and Society (NERDS)
REFRESH-INTERVAL;VALUE=DURATION:PT1H
X-Robots-Tag:noindex
X-PUBLISHED-TTL:PT1H
BEGIN:VTIMEZONE
TZID:Europe/Copenhagen
BEGIN:DAYLIGHT
TZOFFSETFROM:+0100
TZOFFSETTO:+0200
TZNAME:CEST
DTSTART:20220327T010000
END:DAYLIGHT
BEGIN:STANDARD
TZOFFSETFROM:+0200
TZOFFSETTO:+0100
TZNAME:CET
DTSTART:20221030T010000
END:STANDARD
BEGIN:DAYLIGHT
TZOFFSETFROM:+0100
TZOFFSETTO:+0200
TZNAME:CEST
DTSTART:20230326T010000
END:DAYLIGHT
BEGIN:STANDARD
TZOFFSETFROM:+0200
TZOFFSETTO:+0100
TZNAME:CET
DTSTART:20231029T010000
END:STANDARD
BEGIN:DAYLIGHT
TZOFFSETFROM:+0100
TZOFFSETTO:+0200
TZNAME:CEST
DTSTART:20240331T010000
END:DAYLIGHT
BEGIN:STANDARD
TZOFFSETFROM:+0200
TZOFFSETTO:+0100
TZNAME:CET
DTSTART:20241027T010000
END:STANDARD
END:VTIMEZONE
BEGIN:VEVENT
DTSTART;TZID=Europe/Copenhagen:20230509T110000
DTEND;TZID=Europe/Copenhagen:20230509T120000
DTSTAMP:20260421T175628
CREATED:20230508T083859Z
LAST-MODIFIED:20230508T083859Z
UID:1594-1683630000-1683633600@nerds.itu.dk
SUMMARY:Ane at Velo-City 2023
DESCRIPTION:Examining Bicycle Network Data: A reproducible workflow for evaluating data quality\nSession: The potential of open data for better infrastructure
URL:https://nerds.itu.dk/event/ane-at-velo-city-2023/
CATEGORIES:NERDS away
END:VEVENT
BEGIN:VEVENT
DTSTART;TZID=Europe/Copenhagen:20230530T100000
DTEND;TZID=Europe/Copenhagen:20230530T110000
DTSTAMP:20260421T175628
CREATED:20230529T173103Z
LAST-MODIFIED:20230529T173103Z
UID:1605-1685440800-1685444400@nerds.itu.dk
SUMMARY:Roberta at Nordic Science of Science workshop\, Odense
DESCRIPTION:Academic mentees succeed in big groups\, but thrive in small groups
URL:https://nerds.itu.dk/event/roberta-at-nordic-science-of-science-workshop-odense/
CATEGORIES:NERDS away
END:VEVENT
END:VCALENDAR