BEGIN:VCALENDAR
VERSION:2.0
PRODID:-//Networks, Data, and Society (NERDS) - ECPv6.15.20//NONSGML v1.0//EN
CALSCALE:GREGORIAN
METHOD:PUBLISH
X-ORIGINAL-URL:https://nerds.itu.dk
X-WR-CALDESC:Events for Networks, Data, and Society (NERDS)
REFRESH-INTERVAL;VALUE=DURATION:PT1H
X-Robots-Tag:noindex
X-PUBLISHED-TTL:PT1H
BEGIN:VTIMEZONE
TZID:Europe/Copenhagen
BEGIN:DAYLIGHT
TZOFFSETFROM:+0100
TZOFFSETTO:+0200
TZNAME:CEST
DTSTART:20220327T010000
END:DAYLIGHT
BEGIN:STANDARD
TZOFFSETFROM:+0200
TZOFFSETTO:+0100
TZNAME:CET
DTSTART:20221030T010000
END:STANDARD
BEGIN:DAYLIGHT
TZOFFSETFROM:+0100
TZOFFSETTO:+0200
TZNAME:CEST
DTSTART:20230326T010000
END:DAYLIGHT
BEGIN:STANDARD
TZOFFSETFROM:+0200
TZOFFSETTO:+0100
TZNAME:CET
DTSTART:20231029T010000
END:STANDARD
BEGIN:DAYLIGHT
TZOFFSETFROM:+0100
TZOFFSETTO:+0200
TZNAME:CEST
DTSTART:20240331T010000
END:DAYLIGHT
BEGIN:STANDARD
TZOFFSETFROM:+0200
TZOFFSETTO:+0100
TZNAME:CET
DTSTART:20241027T010000
END:STANDARD
END:VTIMEZONE
BEGIN:VEVENT
DTSTART;TZID=Europe/Copenhagen:20231207T110000
DTEND;TZID=Europe/Copenhagen:20231207T123000
DTSTAMP:20260421T105751
CREATED:20231208T083802Z
LAST-MODIFIED:20231208T083802Z
UID:1912-1701946800-1701952200@nerds.itu.dk
SUMMARY:Roberta's Keynote at the CHR 2023
DESCRIPTION:Roberta gave a keynote talk at the Computational Humanities Research Conference 2023 (CHR 2023). The conference is held in Paris\, 6-8 December 2023. Roberta’s gave an online keynote talk\, entitled “Quantifying the dynamics of impact in science and art”.
URL:https://nerds.itu.dk/event/robertas-keynote-at-the-chr-2023/
LOCATION:ÉCOLE POUR L’INFORMATIQUE ET LES TECHNIQUES AVANCÉES\, Paris\, France
CATEGORIES:NERDS away
END:VEVENT
END:VCALENDAR