BEGIN:VCALENDAR
VERSION:2.0
PRODID:-//Networks, Data, and Society (NERDS) - ECPv6.15.20//NONSGML v1.0//EN
CALSCALE:GREGORIAN
METHOD:PUBLISH
X-ORIGINAL-URL:https://nerds.itu.dk
X-WR-CALDESC:Events for Networks, Data, and Society (NERDS)
REFRESH-INTERVAL;VALUE=DURATION:PT1H
X-Robots-Tag:noindex
X-PUBLISHED-TTL:PT1H
BEGIN:VTIMEZONE
TZID:Asia/Manila
BEGIN:STANDARD
TZOFFSETFROM:+0800
TZOFFSETTO:+0800
TZNAME:PST
DTSTART:20190101T000000
END:STANDARD
END:VTIMEZONE
BEGIN:VEVENT
DTSTART;TZID=Asia/Manila:20201126T180000
DTEND;TZID=Asia/Manila:20201126T193000
DTSTAMP:20260423T154728
CREATED:20210112T194216Z
LAST-MODIFIED:20210112T194216Z
UID:435-1606413600-1606419000@nerds.itu.dk
SUMMARY:Roberta @ The Asian Institute of Management
DESCRIPTION:
URL:https://nerds.itu.dk/event/roberta-the-asian-institute-of-management/
CATEGORIES:NERDS away
END:VEVENT
END:VCALENDAR