BEGIN:VCALENDAR
VERSION:2.0
PRODID:-//Networks, Data, and Society (NERDS) - ECPv6.15.20//NONSGML v1.0//EN
CALSCALE:GREGORIAN
METHOD:PUBLISH
X-WR-CALNAME:Networks, Data, and Society (NERDS)
X-ORIGINAL-URL:https://nerds.itu.dk
X-WR-CALDESC:Events for Networks, Data, and Society (NERDS)
REFRESH-INTERVAL;VALUE=DURATION:PT1H
X-Robots-Tag:noindex
X-PUBLISHED-TTL:PT1H
BEGIN:VTIMEZONE
TZID:Europe/Copenhagen
BEGIN:DAYLIGHT
TZOFFSETFROM:+0100
TZOFFSETTO:+0200
TZNAME:CEST
DTSTART:20200329T010000
END:DAYLIGHT
BEGIN:STANDARD
TZOFFSETFROM:+0200
TZOFFSETTO:+0100
TZNAME:CET
DTSTART:20201025T010000
END:STANDARD
BEGIN:DAYLIGHT
TZOFFSETFROM:+0100
TZOFFSETTO:+0200
TZNAME:CEST
DTSTART:20210328T010000
END:DAYLIGHT
BEGIN:STANDARD
TZOFFSETFROM:+0200
TZOFFSETTO:+0100
TZNAME:CET
DTSTART:20211031T010000
END:STANDARD
BEGIN:DAYLIGHT
TZOFFSETFROM:+0100
TZOFFSETTO:+0200
TZNAME:CEST
DTSTART:20220327T010000
END:DAYLIGHT
BEGIN:STANDARD
TZOFFSETFROM:+0200
TZOFFSETTO:+0100
TZNAME:CET
DTSTART:20221030T010000
END:STANDARD
END:VTIMEZONE
BEGIN:VEVENT
DTSTART;TZID=Europe/Copenhagen:20210922T150000
DTEND;TZID=Europe/Copenhagen:20210922T160000
DTSTAMP:20260423T010827
CREATED:20210921T200131Z
LAST-MODIFIED:20210921T200131Z
UID:723-1632322800-1632326400@nerds.itu.dk
SUMMARY:Roberta gives a seminar for Reykjavik University and the Gran Sasso Science
DESCRIPTION:TITLE: \nQuantifying biases in science \n  \nABSTRACT: \nEvery day our life is made easier by efficient measures and algorithms that search and rank scientific information. Yet\, these algorithms have an issue: they are trained on citations\, which are ingrained with human biases. Therefore the output is inherently biased too\, creating inequalities\, raising concerns of discrimination\, even harming economic growth. I will present research focusing on quantifying bias in publication data. The overarching goal of this research is to uncover the mathematical bias mechanisms that\, given the same quality\, drive different citation trajectories\, and use them to create fair algorithms.
URL:https://nerds.itu.dk/event/roberta-gives-a-seminar-for-reykjavik-university-and-the-gran-sasso-science/
CATEGORIES:NERDS away
END:VEVENT
END:VCALENDAR