BEGIN:VCALENDAR
VERSION:2.0
PRODID:-//Networks, Data, and Society (NERDS) - ECPv6.15.20//NONSGML v1.0//EN
CALSCALE:GREGORIAN
METHOD:PUBLISH
X-WR-CALNAME:Networks, Data, and Society (NERDS)
X-ORIGINAL-URL:https://nerds.itu.dk
X-WR-CALDESC:Events for Networks, Data, and Society (NERDS)
REFRESH-INTERVAL;VALUE=DURATION:PT1H
X-Robots-Tag:noindex
X-PUBLISHED-TTL:PT1H
BEGIN:VTIMEZONE
TZID:Europe/Copenhagen
BEGIN:DAYLIGHT
TZOFFSETFROM:+0100
TZOFFSETTO:+0200
TZNAME:CEST
DTSTART:20200329T010000
END:DAYLIGHT
BEGIN:STANDARD
TZOFFSETFROM:+0200
TZOFFSETTO:+0100
TZNAME:CET
DTSTART:20201025T010000
END:STANDARD
BEGIN:DAYLIGHT
TZOFFSETFROM:+0100
TZOFFSETTO:+0200
TZNAME:CEST
DTSTART:20210328T010000
END:DAYLIGHT
BEGIN:STANDARD
TZOFFSETFROM:+0200
TZOFFSETTO:+0100
TZNAME:CET
DTSTART:20211031T010000
END:STANDARD
BEGIN:DAYLIGHT
TZOFFSETFROM:+0100
TZOFFSETTO:+0200
TZNAME:CEST
DTSTART:20220327T010000
END:DAYLIGHT
BEGIN:STANDARD
TZOFFSETFROM:+0200
TZOFFSETTO:+0100
TZNAME:CET
DTSTART:20221030T010000
END:STANDARD
END:VTIMEZONE
BEGIN:VEVENT
DTSTART;TZID=Europe/Copenhagen:20211014T153000
DTEND;TZID=Europe/Copenhagen:20211014T154500
DTSTAMP:20260422T233606
CREATED:20210824T124116Z
LAST-MODIFIED:20210824T124116Z
UID:682-1634225400-1634226300@nerds.itu.dk
SUMMARY:Talk Bojan Kostic at CRBAM21
DESCRIPTION:Analysing cyclist behavior at signalized intersections using computer vision\nArtificial intelligence\, in particular deep learning and computer vision\, is a promising new tool for automated video analysis in traffic studies. It allows for facilitated extraction of detailed data from video recordings at higher efficiency and lower costs\, improved precision of obtained data\, and reduced errors caused by manual video elaboration. This method has the potential to answer detailed questions on human traffic behavior which were very difficult\, if not impossible\, to answer previously. In this work we use such AI tools to investigate cyclist behavior at signalized intersections. We approach the problem by utilizing state-of-the-art tools for automated video analysis and apply them to detect and track road users in video recordings (cyclists\, vehicles\, and pedestrians) and extract their travelled trajectories. This gives us a fine-grained spatio-temporal data set of cyclist movements in the present of vehicles\, pedestrians\, and traffic lights regulation throughout the day. We perform clustering of the trajectories to identify various patterns of movements from different origins to destinations\, and analyze their desire lines. This data set also allows for an insightful intersection safety analysis through assessing conflicts and surrogate measures of safety. We further investigate the social factor on cyclist behaviour\, such as individual versus group behaviour in obeying the rules. We recorded a busy intersection in Copenhagen\, Denmark for over 12 hours and recovered several thousand cyclist trajectories\, uncovering insights about cyclist behaviour and factors affecting it. These results can be used in better and more efficient planning and operation of intersections with cyclist\, to improve safety by better identifying critical conflict points\, inadequate bicycle infrastructure\, and situations at which regulations are not followed that may cause confusion and risky behaviour.
URL:https://nerds.itu.dk/event/talk-bojan-kostic-at-crbam21/
LOCATION:IDA CONFERENCE\, Kalvebod Brygge 31-33\, Copenhagen\, 1780\, Denmark
CATEGORIES:NERDS away
END:VEVENT
END:VCALENDAR