BEGIN:VCALENDAR
VERSION:2.0
PRODID:-//Networks, Data, and Society (NERDS) - ECPv6.15.20//NONSGML v1.0//EN
CALSCALE:GREGORIAN
METHOD:PUBLISH
X-ORIGINAL-URL:https://nerds.itu.dk
X-WR-CALDESC:Events for Networks, Data, and Society (NERDS)
REFRESH-INTERVAL;VALUE=DURATION:PT1H
X-Robots-Tag:noindex
X-PUBLISHED-TTL:PT1H
BEGIN:VTIMEZONE
TZID:Europe/Copenhagen
BEGIN:DAYLIGHT
TZOFFSETFROM:+0100
TZOFFSETTO:+0200
TZNAME:CEST
DTSTART:20210328T010000
END:DAYLIGHT
BEGIN:STANDARD
TZOFFSETFROM:+0200
TZOFFSETTO:+0100
TZNAME:CET
DTSTART:20211031T010000
END:STANDARD
BEGIN:DAYLIGHT
TZOFFSETFROM:+0100
TZOFFSETTO:+0200
TZNAME:CEST
DTSTART:20220327T010000
END:DAYLIGHT
BEGIN:STANDARD
TZOFFSETFROM:+0200
TZOFFSETTO:+0100
TZNAME:CET
DTSTART:20221030T010000
END:STANDARD
BEGIN:DAYLIGHT
TZOFFSETFROM:+0100
TZOFFSETTO:+0200
TZNAME:CEST
DTSTART:20230326T010000
END:DAYLIGHT
BEGIN:STANDARD
TZOFFSETFROM:+0200
TZOFFSETTO:+0100
TZNAME:CET
DTSTART:20231029T010000
END:STANDARD
END:VTIMEZONE
BEGIN:VEVENT
DTSTART;TZID=Europe/Copenhagen:20221102T160000
DTEND;TZID=Europe/Copenhagen:20221102T170000
DTSTAMP:20260422T033753
CREATED:20221021T170422Z
LAST-MODIFIED:20221021T170422Z
UID:1388-1667404800-1667408400@nerds.itu.dk
SUMMARY:Roberta Sinatra at Aarhus University\, The Science Studies Colloquium
DESCRIPTION:Quantifying biases and inequalities in science\nEvery day our life is made easier by efficient algorithms that search and rank scientific information. Yet\, these algorithms have an issue: they are trained on citation data that is ingrained with human biases. Therefore the output is inherently biased too\, creating inequalities\, raising concerns of discrimination\, and harming economic growth. In this talk\, I focus on recent quantitative efforts in science studies to (1) uncover bias mechanisms in science\, (2) use this knowledge about biases to uncover inequalities in the scientific enterprise\, and (3) create fair metrics and algorithms.
URL:https://nerds.itu.dk/event/roberta-sinatra-at-aarhus-university-the-science-studies-colloquium/
CATEGORIES:NERDS away
END:VEVENT
END:VCALENDAR