BEGIN:VCALENDAR
VERSION:2.0
PRODID:-//Networks, Data, and Society (NERDS) - ECPv6.15.20//NONSGML v1.0//EN
CALSCALE:GREGORIAN
METHOD:PUBLISH
X-ORIGINAL-URL:https://nerds.itu.dk
X-WR-CALDESC:Events for Networks, Data, and Society (NERDS)
REFRESH-INTERVAL;VALUE=DURATION:PT1H
X-Robots-Tag:noindex
X-PUBLISHED-TTL:PT1H
BEGIN:VTIMEZONE
TZID:Europe/Copenhagen
BEGIN:DAYLIGHT
TZOFFSETFROM:+0100
TZOFFSETTO:+0200
TZNAME:CEST
DTSTART:20210328T010000
END:DAYLIGHT
BEGIN:STANDARD
TZOFFSETFROM:+0200
TZOFFSETTO:+0100
TZNAME:CET
DTSTART:20211031T010000
END:STANDARD
BEGIN:DAYLIGHT
TZOFFSETFROM:+0100
TZOFFSETTO:+0200
TZNAME:CEST
DTSTART:20220327T010000
END:DAYLIGHT
BEGIN:STANDARD
TZOFFSETFROM:+0200
TZOFFSETTO:+0100
TZNAME:CET
DTSTART:20221030T010000
END:STANDARD
BEGIN:DAYLIGHT
TZOFFSETFROM:+0100
TZOFFSETTO:+0200
TZNAME:CEST
DTSTART:20230326T010000
END:DAYLIGHT
BEGIN:STANDARD
TZOFFSETFROM:+0200
TZOFFSETTO:+0100
TZNAME:CET
DTSTART:20231029T010000
END:STANDARD
END:VTIMEZONE
BEGIN:VEVENT
DTSTART;TZID=Europe/Copenhagen:20221214T160000
DTEND;TZID=Europe/Copenhagen:20221214T170000
DTSTAMP:20260422T022237
CREATED:20221014T125851Z
LAST-MODIFIED:20221019T133227Z
UID:1359-1671033600-1671037200@nerds.itu.dk
SUMMARY:Michael and Ane at CASA UCL Seminar
DESCRIPTION:Bicycle networks: From data quality assessment to computational analysis\nCycling is marginalized despite being a promising solution towards sustainable transport. In parallel\, cycling data and cycling research are also marginalized\, posing many opportunities for improvement and open questions. Here\, we first present our cycling data quality tool which enables intrinsic and extrinsic assessment and reporting of data quality in cycling infrastructure data sets\, focusing on the structural network perspective. Then\, we explore how such data enable the development of computational methods for automated bicycle network analysis and planning.
URL:https://nerds.itu.dk/event/michael-and-ane-at-casa-ucl-seminar/
CATEGORIES:NERDS away
END:VEVENT
END:VCALENDAR