BEGIN:VCALENDAR
VERSION:2.0
PRODID:-//Networks, Data, and Society (NERDS) - ECPv6.15.20//NONSGML v1.0//EN
CALSCALE:GREGORIAN
METHOD:PUBLISH
X-ORIGINAL-URL:https://nerds.itu.dk
X-WR-CALDESC:Events for Networks, Data, and Society (NERDS)
REFRESH-INTERVAL;VALUE=DURATION:PT1H
X-Robots-Tag:noindex
X-PUBLISHED-TTL:PT1H
BEGIN:VTIMEZONE
TZID:Europe/Copenhagen
BEGIN:DAYLIGHT
TZOFFSETFROM:+0100
TZOFFSETTO:+0200
TZNAME:CEST
DTSTART:20220327T010000
END:DAYLIGHT
BEGIN:STANDARD
TZOFFSETFROM:+0200
TZOFFSETTO:+0100
TZNAME:CET
DTSTART:20221030T010000
END:STANDARD
BEGIN:DAYLIGHT
TZOFFSETFROM:+0100
TZOFFSETTO:+0200
TZNAME:CEST
DTSTART:20230326T010000
END:DAYLIGHT
BEGIN:STANDARD
TZOFFSETFROM:+0200
TZOFFSETTO:+0100
TZNAME:CET
DTSTART:20231029T010000
END:STANDARD
BEGIN:DAYLIGHT
TZOFFSETFROM:+0100
TZOFFSETTO:+0200
TZNAME:CEST
DTSTART:20240331T010000
END:DAYLIGHT
BEGIN:STANDARD
TZOFFSETFROM:+0200
TZOFFSETTO:+0100
TZNAME:CET
DTSTART:20241027T010000
END:STANDARD
END:VTIMEZONE
BEGIN:VEVENT
DTSTART;TZID=Europe/Copenhagen:20230414T090000
DTEND;TZID=Europe/Copenhagen:20230414T121500
DTSTAMP:20260421T204347
CREATED:20230226T165754Z
LAST-MODIFIED:20230226T165843Z
UID:1535-1681462800-1681474500@nerds.itu.dk
SUMMARY:CSH Vienna workshop: Sustainable mobility
DESCRIPTION:We are organizing a workhop in Vienna! \nSustainable Mobility: Data\, Networks\, and Complexity\n \nWhy are politicians so reluctant to invest into bicycle infrastructure and pedestrianization given it is the most efficient investment towards sustainable and livable cities? What are the technical and political bottlenecks that keep society in the stranglehold of car dependency\, and what are the implications of sustained delay? Which data are we missing\, how should we grow network infrastructure\, and how to speed up the sluggish political process? The climate crisis demands pressing answers\, which we explore here with state-of-the-art insights in Data/Network/Complexity Science and Urban Planning. \nThis workshop brings together researchers and policymakers from Vienna and Copenhagen who work on understanding the best pathways towards sustainable mobility with focus on cycling\, or who are developing tools/methods supporting that aim. Our speakers will cover: Mobility and infrastructure data quality\, bicycle network planning\, politics & activism\, systemic complexity approaches.
URL:https://nerds.itu.dk/event/csh-vienna-workshop-sustainable-mobility/
CATEGORIES:NERDS away
END:VEVENT
END:VCALENDAR