BEGIN:VCALENDAR
VERSION:2.0
PRODID:-//Networks, Data, and Society (NERDS) - ECPv6.15.20//NONSGML v1.0//EN
CALSCALE:GREGORIAN
METHOD:PUBLISH
X-WR-CALNAME:Networks, Data, and Society (NERDS)
X-ORIGINAL-URL:https://nerds.itu.dk
X-WR-CALDESC:Events for Networks, Data, and Society (NERDS)
REFRESH-INTERVAL;VALUE=DURATION:PT1H
X-Robots-Tag:noindex
X-PUBLISHED-TTL:PT1H
BEGIN:VTIMEZONE
TZID:Europe/Copenhagen
BEGIN:DAYLIGHT
TZOFFSETFROM:+0100
TZOFFSETTO:+0200
TZNAME:CEST
DTSTART:20220327T010000
END:DAYLIGHT
BEGIN:STANDARD
TZOFFSETFROM:+0200
TZOFFSETTO:+0100
TZNAME:CET
DTSTART:20221030T010000
END:STANDARD
BEGIN:DAYLIGHT
TZOFFSETFROM:+0100
TZOFFSETTO:+0200
TZNAME:CEST
DTSTART:20230326T010000
END:DAYLIGHT
BEGIN:STANDARD
TZOFFSETFROM:+0200
TZOFFSETTO:+0100
TZNAME:CET
DTSTART:20231029T010000
END:STANDARD
BEGIN:DAYLIGHT
TZOFFSETFROM:+0100
TZOFFSETTO:+0200
TZNAME:CEST
DTSTART:20240331T010000
END:DAYLIGHT
BEGIN:STANDARD
TZOFFSETFROM:+0200
TZOFFSETTO:+0100
TZNAME:CET
DTSTART:20241027T010000
END:STANDARD
END:VTIMEZONE
BEGIN:VEVENT
DTSTART;TZID=Europe/Copenhagen:20230420T183000
DTEND;TZID=Europe/Copenhagen:20230420T200000
DTSTAMP:20260421T203909
CREATED:20230308T161856Z
LAST-MODIFIED:20230425T131348Z
UID:1551-1682015400-1682020800@nerds.itu.dk
SUMMARY:Michael at Eurosolar Austria\, Vienna
DESCRIPTION:Wie man optimale Radweg-Netze plant\nEurosolar Austria
URL:https://nerds.itu.dk/event/michael-at-agenda-21-vienna/
LOCATION:Plutzerbrau\, Schrankgasse 2\, Vienna\, 1070\, Austria
CATEGORIES:NERDS away
END:VEVENT
END:VCALENDAR