BEGIN:VCALENDAR
VERSION:2.0
PRODID:-//Networks, Data, and Society (NERDS) - ECPv6.15.20//NONSGML v1.0//EN
CALSCALE:GREGORIAN
METHOD:PUBLISH
X-WR-CALNAME:Networks, Data, and Society (NERDS)
X-ORIGINAL-URL:https://nerds.itu.dk
X-WR-CALDESC:Events for Networks, Data, and Society (NERDS)
REFRESH-INTERVAL;VALUE=DURATION:PT1H
X-Robots-Tag:noindex
X-PUBLISHED-TTL:PT1H
BEGIN:VTIMEZONE
TZID:America/New_York
BEGIN:DAYLIGHT
TZOFFSETFROM:-0500
TZOFFSETTO:-0400
TZNAME:EDT
DTSTART:20220313T070000
END:DAYLIGHT
BEGIN:STANDARD
TZOFFSETFROM:-0400
TZOFFSETTO:-0500
TZNAME:EST
DTSTART:20221106T060000
END:STANDARD
BEGIN:DAYLIGHT
TZOFFSETFROM:-0500
TZOFFSETTO:-0400
TZNAME:EDT
DTSTART:20230312T070000
END:DAYLIGHT
BEGIN:STANDARD
TZOFFSETFROM:-0400
TZOFFSETTO:-0500
TZNAME:EST
DTSTART:20231105T060000
END:STANDARD
BEGIN:DAYLIGHT
TZOFFSETFROM:-0500
TZOFFSETTO:-0400
TZNAME:EDT
DTSTART:20240310T070000
END:DAYLIGHT
BEGIN:STANDARD
TZOFFSETFROM:-0400
TZOFFSETTO:-0500
TZNAME:EST
DTSTART:20241103T060000
END:STANDARD
END:VTIMEZONE
BEGIN:VEVENT
DTSTART;TZID=America/New_York:20230703T093000
DTEND;TZID=America/New_York:20230703T110000
DTSTAMP:20260421T165226
CREATED:20230701T075025Z
LAST-MODIFIED:20230701T075025Z
UID:1624-1688376600-1688382000@nerds.itu.dk
SUMMARY:Roberta at ISSI 2023
DESCRIPTION:Quantifying biases and inequalities in science\nEvery day our life is made easier by efficient measures and algorithms that quantify\, search\, and rank scientific information. Yet\, these measures and algorithms have an issue: they are trained on citations\, which are ingrained with human biases. Therefore the output is inherently biased too\, creating inequalities\, raising concerns of discrimination\, even harming growth. In this talk\, I focus on recent quantitative efforts in science studies to (1) uncover bias mechanisms in science\, (2) use this knowledge about biases to uncover inequalities in the scientific enterprise\, and (3) create fair metrics and algorithms. \nRoberta Sinatra is Professor in Computational Social Science at the University of Copenhagen (KU)\, and holds visiting positions at IT University of Copenhagen (ITU)\, ISI Foundation (Turin\, Italy) and Complexity Science Hub (Vienna\, Austria). She co-founded the NEtwoRks\, Data\, and Society (NERDS) Research group at ITU\, which she led in 2019-2022\, and is a co-lead of the pioneer centre for AI in Copenhagen. Her research is at the forefront of network science\, data science\, and computational social science. Roberta did her BSc\, MSc and PhD in Physics at the University of Catania\, Italy. Her research has been published in top-tier venues like Nature and Science\, and has been featured in The New York Times\, Forbes\, The Economist\, The Guardian\, The Washington Post\, among other major media outlets. Her research has been awarded the Complex Systems Society Junior prize\, the DPG Young Scientist Award for Socio- and Econophysics\, and a Villum Young Investigator grant. \n 
URL:https://nerds.itu.dk/event/roberta-at-issi-2023/
CATEGORIES:NERDS away
END:VEVENT
END:VCALENDAR