BEGIN:VCALENDAR
VERSION:2.0
PRODID:-//Networks, Data, and Society (NERDS) - ECPv6.15.20//NONSGML v1.0//EN
CALSCALE:GREGORIAN
METHOD:PUBLISH
X-WR-CALNAME:Networks, Data, and Society (NERDS)
X-ORIGINAL-URL:https://nerds.itu.dk
X-WR-CALDESC:Events for Networks, Data, and Society (NERDS)
REFRESH-INTERVAL;VALUE=DURATION:PT1H
X-Robots-Tag:noindex
X-PUBLISHED-TTL:PT1H
BEGIN:VTIMEZONE
TZID:Europe/Copenhagen
BEGIN:DAYLIGHT
TZOFFSETFROM:+0100
TZOFFSETTO:+0200
TZNAME:CEST
DTSTART:20180325T010000
END:DAYLIGHT
BEGIN:STANDARD
TZOFFSETFROM:+0200
TZOFFSETTO:+0100
TZNAME:CET
DTSTART:20181028T010000
END:STANDARD
BEGIN:DAYLIGHT
TZOFFSETFROM:+0100
TZOFFSETTO:+0200
TZNAME:CEST
DTSTART:20190331T010000
END:DAYLIGHT
BEGIN:STANDARD
TZOFFSETFROM:+0200
TZOFFSETTO:+0100
TZNAME:CET
DTSTART:20191027T010000
END:STANDARD
BEGIN:DAYLIGHT
TZOFFSETFROM:+0100
TZOFFSETTO:+0200
TZNAME:CEST
DTSTART:20200329T010000
END:DAYLIGHT
BEGIN:STANDARD
TZOFFSETFROM:+0200
TZOFFSETTO:+0100
TZNAME:CET
DTSTART:20201025T010000
END:STANDARD
BEGIN:DAYLIGHT
TZOFFSETFROM:+0100
TZOFFSETTO:+0200
TZNAME:CEST
DTSTART:20210328T010000
END:DAYLIGHT
BEGIN:STANDARD
TZOFFSETFROM:+0200
TZOFFSETTO:+0100
TZNAME:CET
DTSTART:20211031T010000
END:STANDARD
END:VTIMEZONE
BEGIN:VTIMEZONE
TZID:UTC
BEGIN:STANDARD
TZOFFSETFROM:+0000
TZOFFSETTO:+0000
TZNAME:UTC
DTSTART:20180101T000000
END:STANDARD
END:VTIMEZONE
BEGIN:VEVENT
DTSTART;TZID=Europe/Copenhagen:20201030T121500
DTEND;TZID=Europe/Copenhagen:20201030T131500
DTSTAMP:20260426T055559
CREATED:20201028T161709Z
LAST-MODIFIED:20201028T161709Z
UID:377-1604060100-1604063700@nerds.itu.dk
SUMMARY:Invited talk Maksim Kitsak
DESCRIPTION:Maksim Kitsak (Delft University of Technology)\nGeometric Representations of Complementarity-Driven Networks\nAbstract:\n \nComplementarity-driven networks are routinely embedded into latent metric spaces with the purpose of data analysis. We argue that these traditional geometric representations\, where connected nodes are embedded close to each other in the latent space\, are not applicable to complementarity-driven networks due to the contradiction between the triangle inequality in latent metric spaces and the non-transitivity of complementarity principles. We develop a cross-geometric framework for the embedding of complementarity-driven networks and demonstrate that this representation allows for accurate embedding of real complementarity-driven networks.\n \nBio:\n \nDr. Kitsak is an assistant professor in the faculty of Electrical Engineering\, Mathematics and Computer Science at the Delft University of Technology. Dr. Kitsak earned Ph.D. in theoretical physics from Boston University. Dr. Kitsak has held postdoctoral positions at the Center for Applied Internet Data Analysis (CAIDA)\, UC San Diego; and the Center for Complex Network Research (CCNR)\, Northeastern University. His research focuses on the development of theoretical and computational approaches to networked systems\, with diverse applications ranging from systems biology to civil infrastructure. Results of his research have been published in top cross-disciplinary journals\, such as Nature\, Nature Physics\, Science\, and Science Advances\, and have received broad media coverage. 
URL:https://nerds.itu.dk/event/invited-talk-maksim-kitsak/
END:VEVENT
BEGIN:VEVENT
DTSTART;TZID=Europe/Copenhagen:20200611T130000
DTEND;TZID=Europe/Copenhagen:20200611T140000
DTSTAMP:20260426T055559
CREATED:20200602T074503Z
LAST-MODIFIED:20200602T074503Z
UID:289-1591880400-1591884000@nerds.itu.dk
SUMMARY:PhD Defense Obaida Hanteer
DESCRIPTION:Thesis: “A Practical and Critical Look at the Problem of Community Discovery in Multi-layer Networks” \nExamination Committee:\nAssociate Professor Barbara Plank\, IT University of Copenhagen\, Denmark (Chair)\nProfessor Vito Latora\, University of London\, England\nDr. Luca Aiello\, Nokia Bell Labs\, England\nSupervisor:\nAssociate Professor Luca Rossi\, IT University of Copenhagen\, Denmark\nCo-supervisor:\nProfessor Irina Shklovski\, University of Copenhagen\, Denmark \nPre-registration:\nFor participation you must register here no later than 9 June 2020 at 3 PM. Upon registration\, you will receive an invitation with a link to join the online defence no later than the workday before the defence. 
URL:https://nerds.itu.dk/event/phd-defense-obaida-hanteer/
END:VEVENT
BEGIN:VEVENT
DTSTART;TZID=Europe/Copenhagen:20200329T190000
DTEND;TZID=Europe/Copenhagen:20200329T210000
DTSTAMP:20260426T055559
CREATED:20200503T155947Z
LAST-MODIFIED:20200503T160011Z
UID:286-1585508400-1585515600@nerds.itu.dk
SUMMARY:Roberta @ SSC Catania
DESCRIPTION:La matematica dei contagi
URL:https://nerds.itu.dk/event/roberta-ssc-catania/
CATEGORIES:NERDS away
END:VEVENT
BEGIN:VEVENT
DTSTART;TZID=Europe/Copenhagen:20200211T150000
DTEND;TZID=Europe/Copenhagen:20200211T170000
DTSTAMP:20260426T055559
CREATED:20200213T103341Z
LAST-MODIFIED:20200213T103409Z
UID:276-1581433200-1581440400@nerds.itu.dk
SUMMARY:Roberta @ University of Barcelona
DESCRIPTION:Keynote: Quantifying the biases of scientific success \nInternational Day of Women and Girls in Science\nDones en la recerca scientifica
URL:https://nerds.itu.dk/event/roberta-university-of-barcelona/
CATEGORIES:NERDS away
END:VEVENT
BEGIN:VEVENT
DTSTART;TZID=Europe/Copenhagen:20200124T120000
DTEND;TZID=Europe/Copenhagen:20200124T130000
DTSTAMP:20260426T055559
CREATED:20200122T090151Z
LAST-MODIFIED:20200122T090151Z
UID:270-1579867200-1579870800@nerds.itu.dk
SUMMARY:Lunch Seminar: Tiago Oliveira Cunha
DESCRIPTION:The first and newest postdoc of NERDS\, Tiago Oliveira Cunha\, will introduce and discuss his work in a lunch seminar on Friday\, Jan 24th\, 12:15-13:00 in the 4E wing. \nAre All Successful Communities Alike? Characterizing and Predicting the Success of Online Communities \nThe proliferation of online communities has created exciting opportunities to study the mechanisms that explain group success. While a growing body of research investigates community success through a single measure — typically\, the number of members — we argue that there are multiple ways of measuring success. Here\, we present a systematic study to understand the relations between these success definitions and test how well they can be predicted based on community properties and behaviors from the earliest period of a community’s lifetime. Surprisingly\, we find that the measures do not exhibit very high correlations\, suggesting that they capture different types of success. Additionally\, we find that different success measures are predicted by different attributes of online communities\, suggesting that success can be achieved through different behaviors. Our work sheds light on the basic understanding of what success represents in online communities and what predicts it. This work was accepted as a full paper at The Web Conference 2019.
URL:https://nerds.itu.dk/event/lunch-seminar-tiago-oliveira-cunha/
LOCATION:4E Wing
CATEGORIES:NERDS home
END:VEVENT
BEGIN:VEVENT
DTSTART;VALUE=DATE:20191212
DTEND;VALUE=DATE:20191214
DTSTAMP:20260426T055559
CREATED:20190918T085958Z
LAST-MODIFIED:20191003T115040Z
UID:206-1576108800-1576281599@nerds.itu.dk
SUMMARY:Roberta @ Leiden University
DESCRIPTION:Roberta will be at Leiden University\, visiting and giving talks at CWTS
URL:https://nerds.itu.dk/event/leiden-university/
LOCATION:CWTS\, Leiden University\, Leiden\, Netherlands
CATEGORIES:NERDS away
END:VEVENT
BEGIN:VEVENT
DTSTART;TZID=Europe/Copenhagen:20191205T120000
DTEND;TZID=Europe/Copenhagen:20191205T130000
DTSTAMP:20260426T055559
CREATED:20191128T093030Z
LAST-MODIFIED:20191128T093120Z
UID:257-1575547200-1575550800@nerds.itu.dk
SUMMARY:Invited Talk: Matteo Magnani\, Multilayer networks meet databases: from property graphs to online information networks
DESCRIPTION:Abstract:  \nThe analysis of complex online information requires the availability of rich data representation models and data analysis algorithms\, for example multilayer networks and multilayer network clustering methods. At the same time\, data analysis processes often require the ability to store raw data not yet prepared to perform a specific type of analysis\, the possibility to enforce constraints guaranteeing some degree of data quality\, and the capability to efficiently manipulate (or query) the raw data. This is for example important when performing interactive and visual data analysis\, where several data dimensions\, data subsets and aggregations have to be computed dynamically to explore different views over the data. In this work I present an extension of the multilayer network model providing database functionality on top of the idea of using the concept of layer to unify several types of graph-based models. This extension is based on the concepts of attributed vertex cube and attributed edge cube. I will conclude the presentation showing how to express a process to identify online conversations about specific topics in social media as a combination of cubes and cube operators.  \n\n\n \n\n\nBio: \nMatteo Magnani is an associate professor (“docent”) at Uppsala University\, where he coordinates the Uppsala Information Laboratory (http://infolab.it.uu.se) and a new Master’s program in Data Science. Since 2011 he has developed and applied analysis methods for multilayer social networks in the context of national and European projects (FIRB and H2020 funding schemes). His results are described in his book “Multilayer Social Networks”\, Cambridge University Press (2016)\, in several peer-reviewed publications\, and implemented in the R multinet library (https://CRAN.R-project.org/package=multinet). He is also the recipient of a STINT initiation grant with TokyoTech on the topic of clustering temporal networks and of a NOS-HS grant for the establishment of a Nordic network on online disinformation. He has received the title of “Excellent teacher” (2016) and the UTN pedagogical prize (2013).
URL:https://nerds.itu.dk/event/invited-talk-matteo-magnani-multilayer-networks-meet-databases-from-property-graphs-to-online-information-networks/
LOCATION:ITU\, 4A05
CATEGORIES:NERDS home
END:VEVENT
BEGIN:VEVENT
DTSTART;TZID=Europe/Copenhagen:20191128T120000
DTEND;TZID=Europe/Copenhagen:20191128T130000
DTSTAMP:20260426T055559
CREATED:20191003T115004Z
LAST-MODIFIED:20191125T130126Z
UID:218-1574942400-1574946000@nerds.itu.dk
SUMMARY:Invited talk Anna Sapienza\, Understanding human behaviors and engagement in mobile app usage
DESCRIPTION:Abstract: \nRecent years have seen an explosive growth in the use of mobile apps on smartphones and tablets. With over 2.7 billion smartphone users across the world checking their phones over 80 times a day\, smartphone data offer a unique opportunity to understand main aspects of human behaviors\, e.g.\, mobility\, sleep patterns\, and mobile app usage. Smartphones can be indeed a hugely productive tool. However\, they interfere more and more with work\, school\, and relationships\, sometimes leading engagement to become real addiction. It is indeed crucial to study how individuals interact with their phone and whether they are engaged and retained in the use of specific mobile apps. This talk will present the preliminary findings on user engagement in mobile apps\, based on the study of an unprecedented dataset\, including mobile app traces of thousands of users in time. I will show how users interact with smartphones over time with the aim of identifying the characteristics of users that are majorly engaged in mobile apps\, the specific apps that are driving this engagement\, and how usage patterns vary over time. \n  \nBio: \nAnna Sapienza is a Postdoctoral Researcher at the Department of Applied Mathematics and Computer Science at DTU. She holds a PhD in Applied Mathematics and her research is focused on modelling human behavior in online social environments\, e.g.\, online social networks\, applications\, and games\, through the analysis of high-dimensional data. She collaborates with the Copenhagen Center of Social Data Science (SODAS)\, where she studies phone usage activity and user engagement. Her research interests stay at the intersection between computational social science\, machine learning\, and network analysis.
URL:https://nerds.itu.dk/event/invited-talk-anna-sapienza/
LOCATION:ITU\, 4A09
CATEGORIES:NERDS home
END:VEVENT
BEGIN:VEVENT
DTSTART;TZID=Europe/Copenhagen:20191016T080000
DTEND;TZID=Europe/Copenhagen:20191017T170000
DTSTAMP:20260426T055559
CREATED:20191003T114217Z
LAST-MODIFIED:20191003T114217Z
UID:211-1571212800-1571331600@nerds.itu.dk
SUMMARY:Talk Michael Szell at Funders Forum on Sustainable Cities
DESCRIPTION:
URL:https://nerds.itu.dk/event/talk-michael-szell-at-funders-forum-on-sustainable-cities/
LOCATION:Turin\, Turin\, Italy
CATEGORIES:NERDS away
END:VEVENT
BEGIN:VEVENT
DTSTART;TZID=Europe/Copenhagen:20191010T120000
DTEND;TZID=Europe/Copenhagen:20191010T130000
DTSTAMP:20260426T055559
CREATED:20191003T114832Z
LAST-MODIFIED:20191003T114832Z
UID:216-1570708800-1570712400@nerds.itu.dk
SUMMARY:Invited talk Laura Alessandretti
DESCRIPTION:
URL:https://nerds.itu.dk/event/invited-talk-laura-alessandretti/
LOCATION:ITU\, 3A08\, Rued Langgaards Vej 7\, København\, 2300\, Denmark
CATEGORIES:NERDS home
END:VEVENT
BEGIN:VEVENT
DTSTART;TZID=Europe/Copenhagen:20191003T120000
DTEND;TZID=Europe/Copenhagen:20191003T130000
DTSTAMP:20260426T055559
CREATED:20191003T114646Z
LAST-MODIFIED:20191003T114646Z
UID:214-1570104000-1570107600@nerds.itu.dk
SUMMARY:Invited talk Jonas S. Juul
DESCRIPTION:
URL:https://nerds.itu.dk/event/invited-talk-jonas-s-juul/
CATEGORIES:NERDS home
END:VEVENT
BEGIN:VEVENT
DTSTART;VALUE=DATE:20190925
DTEND;VALUE=DATE:20190926
DTSTAMP:20260426T055559
CREATED:20190918T085602Z
LAST-MODIFIED:20191003T114516Z
UID:201-1569369600-1569455999@nerds.itu.dk
SUMMARY:Colloquium at SISSA - Scuola Internazionale Superiore di Studi Avanzati
DESCRIPTION:Roberta will give a Colloquium at SISSA. Here the link to the event.
URL:https://nerds.itu.dk/event/colloquium-at-sissa-scuola-internazionale-superiore-di-studi-avanzati/
LOCATION:SISSA\, Trieste\, Italy
CATEGORIES:NERDS away
END:VEVENT
BEGIN:VEVENT
DTSTART;TZID=Europe/Copenhagen:20190923T183000
DTEND;TZID=Europe/Copenhagen:20190923T210000
DTSTAMP:20260426T055559
CREATED:20190904T083902Z
LAST-MODIFIED:20190904T083902Z
UID:178-1569263400-1569272400@nerds.itu.dk
SUMMARY:DataBeers Copenhagen
DESCRIPTION:NERDS members Roberta and Michael co-organize the second DataBeers event.
URL:https://nerds.itu.dk/event/databeers-copenhagen/
LOCATION:H15\, Halmtorvet 15\, København\, 1700\, Denmark
CATEGORIES:NERDS home
END:VEVENT
BEGIN:VEVENT
DTSTART;TZID=Europe/Copenhagen:20190912T000000
DTEND;TZID=Europe/Copenhagen:20190912T133000
DTSTAMP:20260426T055559
CREATED:20190903T172253Z
LAST-MODIFIED:20190903T172253Z
UID:172-1568246400-1568295000@nerds.itu.dk
SUMMARY:Invited talk Carlos Gershenson
DESCRIPTION:Prof.  Carlos Gershenson  from IINAS::UNAM will visit ITU on Sep 12th. \nYou’re invited to attend his lunchtime talk “Heterogeneity extends criticality”.
URL:https://nerds.itu.dk/event/invited-talk-carlos-gershenson/
LOCATION:ITU\, 2A08\, Rued Langgaards Vej 7\, Copenhagen\, 2300\, Denmark
CATEGORIES:NERDS home
END:VEVENT
BEGIN:VEVENT
DTSTART;TZID=Europe/Copenhagen:20190907T130000
DTEND;TZID=Europe/Copenhagen:20190907T150000
DTSTAMP:20260426T055559
CREATED:20190905T081459Z
LAST-MODIFIED:20190905T081459Z
UID:181-1567861200-1567868400@nerds.itu.dk
SUMMARY:NERDS @ Techfest: The Future of Social Media Data Research
DESCRIPTION:We’re participating at Techfest 2019 a 3-day festival in Copenhagen with 200+ events on humans and technology.\nWe will coordinate a session about The Future of Social Media Data Research: Let’s Do It Right When it Comes to Data\, Privacy and Public-Interest \nSession presentation:\nSocial media has become a central data source for the study of individual as well as societal issues. The unprecedented scale and granularity of this type of data allow researchers to observe social dynamics as they unfold and hold high potential. Nevertheless\, recent scandals and data-breaches such as in the case of Cambridge Analytica\, and the social media platforms’ reaction\, have shown the potential contradictions underlying this kind of research. Who holds the right to do public-interest research on this data? How to make it freely available for researchers? Who should be hold accountable?\nThis session will discuss these questions that will play a central role in shaping the future of research in many fields.
URL:https://nerds.itu.dk/event/nerds-techfest-the-future-of-social-media-data-research/
LOCATION:Rysensteen\, Flæsketorvet 60\, 1711 København\, Flæsketorvet 60\, \,  København\, 1711\, Denmark
CATEGORIES:NERDS away
END:VEVENT
BEGIN:VEVENT
DTSTART;VALUE=DATE:20190904
DTEND;VALUE=DATE:20190909
DTSTAMP:20260426T055559
CREATED:20190918T082209Z
LAST-MODIFIED:20191003T114516Z
UID:187-1567555200-1567987199@nerds.itu.dk
SUMMARY:Roberta @ Metascience Conference 2019
DESCRIPTION:Roberta will give an invited talk at the Metascience Conference 2019\, hosted at Stanford University\, in Palo Alto.  \n \nThis is the topic of the conference: \nDuring this decade\, we have witnessed the emergence of a new discipline called metascience\, metaresearch\, or the science of science. Most exciting is the fact that this is emerging as a truly interdisciplinary enterprise with contributors from every domain of research. This symposium serves as a formative meeting for metascience as a discipline. The meeting will bring together leading scholars that are investigating questions related to themes such as: \n\nHow do scientists generate ideas?\nHow are our statistics\, methods\, and measurement practices affecting our capacity to identify robust findings?\nDoes the distinction between exploratory and confirmatory research matter?\nWhat is replication and its impact and its value?\nHow do scientists interpret and treat evidence?\nWhat are the cultures and norms of science?\n\n 
URL:https://nerds.itu.dk/event/roberta-metascience-conference-2019/
LOCATION:Stanford University\, Palo Alto\, CA\, United States
CATEGORIES:NERDS away
END:VEVENT
BEGIN:VEVENT
DTSTART;VALUE=DATE:20190829
DTEND;VALUE=DATE:20190830
DTSTAMP:20260426T055559
CREATED:20190918T083535Z
LAST-MODIFIED:20191003T114516Z
UID:196-1567036800-1567123199@nerds.itu.dk
SUMMARY:Cambridge Network Day\, University of Cambridge
DESCRIPTION:Roberta gave an invited talk at Cambridge Network Day\, the yearly conference of the Cambridge Networks Network\, at the University of Cambridge.  \n\n\n\nCambridge Networks Day 2019 is the sixth of our annual meetings on the topic of complex networks. It is an occasion for the research community to exchange ideas and expertise\, intended to spark interdisciplinary collaborations. The day will include a diverse set of talks by invited speakers highlighting interest- ing new directions in the field of complex networks\, as well as a poster session. We hope the day’s events will strengthen the interdisciplinary links between researchers and promote communication within the community.
URL:https://nerds.itu.dk/event/cambridge-network-day-university-of-cambridge/
LOCATION:Cambridge University\, Cambridge\, United Kingdom
CATEGORIES:NERDS away
END:VEVENT
BEGIN:VEVENT
DTSTART;VALUE=DATE:20190827
DTEND;VALUE=DATE:20190831
DTSTAMP:20260426T055559
CREATED:20190904T070346Z
LAST-MODIFIED:20191003T114516Z
UID:176-1566864000-1567209599@nerds.itu.dk
SUMMARY:ASONAM 2019 (4 Talks)
DESCRIPTION:Presenting: \n– Benchmarking API Systems for Social Media Data Collection \n– Discovering Communities of Community Discovery \n– The Impact of Projection and Backboning on Network Analysis \n– Investigating Community Discovery Similarity Measures’ Behaviors
URL:https://nerds.itu.dk/event/asonam-2019-4-talks/
CATEGORIES:NERDS away
END:VEVENT
BEGIN:VEVENT
DTSTART;VALUE=DATE:20190713
DTEND;VALUE=DATE:20190720
DTSTAMP:20260426T055559
CREATED:20190426T161951Z
LAST-MODIFIED:20190430T092433Z
UID:48-1562976000-1563580799@nerds.itu.dk
SUMMARY:NERDS at Lipari Complex Networks workshop
DESCRIPTION:NERDS Michele Coscia\, Roberta Sinatra\, and Michael Szell were invited to present their research at the workshop “Complex networks: from socio-economic systems to biology and brain” from the 13th to the 19th of July in Lipari.
URL:https://nerds.itu.dk/event/nerds-at-lipari-complex-networks-workshop/
CATEGORIES:NERDS away
END:VEVENT
BEGIN:VEVENT
DTSTART;TZID=UTC:20190523T183000
DTEND;TZID=UTC:20190523T210000
DTSTAMP:20260426T055559
CREATED:20190426T162501Z
LAST-MODIFIED:20230921T202157Z
UID:50-1558636200-1558645200@nerds.itu.dk
SUMMARY:Talk Michael Szell at Data Beers Copenhagen
DESCRIPTION:The first edition of Data Beers Copenhagen will feature five talks\, one of them given by NERDS member Michael Szell on “Understanding wasted mobility space with crowdsourced urban data”.
URL:https://nerds.itu.dk/event/talk-michael-szell-at-data-beers-copenhagen/
LOCATION:Byens Lys\, Fabriksområdet 99\, Copenhagen\, 1440
CATEGORIES:NERDS home
END:VEVENT
BEGIN:VEVENT
DTSTART;VALUE=DATE:20190521
DTEND;VALUE=DATE:20190522
DTSTAMP:20260426T055559
CREATED:20190430T110134Z
LAST-MODIFIED:20190430T151728Z
UID:83-1558396800-1558483199@nerds.itu.dk
SUMMARY:Luca Rossi public talk: @Demokratisk disruption 2018/2019
DESCRIPTION:In the context of MandagMorgen’s talks series on the future of Democracy NERDS member Luca Rossi will give a keynote about Social Media echo-chambers and the risk for democracy. The event will be organized on the Danish island of Bornholm: more details here.
URL:https://nerds.itu.dk/event/luca-rossi-public-talk-demokratisk-disruption-2018-2019/
LOCATION:Bornholm
CATEGORIES:NERDS away
END:VEVENT
BEGIN:VEVENT
DTSTART;TZID=UTC:20190516T120000
DTEND;TZID=UTC:20190516T140000
DTSTAMP:20260426T055559
CREATED:20190426T155454Z
LAST-MODIFIED:20190430T092445Z
UID:33-1558008000-1558015200@nerds.itu.dk
SUMMARY:Invited talk Dominique Boullier
DESCRIPTION:Prof. Dominique Boullier from EPFL will visit ITU on May 16th. \nYou’re invited to attend his lunchtime talk “Digital Propagations and Memetics as a New Opportunity for Quantification in Social Sciences\, with the Help of Data Science”
URL:https://nerds.itu.dk/event/invited-talk-dominique-boullier/
LOCATION:ITU\, 3A08\, Rued Langgaards Vej 7\, København\, 2300\, Denmark
CATEGORIES:NERDS home
END:VEVENT
BEGIN:VEVENT
DTSTART;TZID=UTC:20190504T140000
DTEND;TZID=UTC:20190504T150000
DTSTAMP:20260426T055559
CREATED:20190426T161553Z
LAST-MODIFIED:20190430T092433Z
UID:46-1556978400-1556982000@nerds.itu.dk
SUMMARY:Roundtable talk Roberta Sinatra at Monte Carlo Prix Femme de l’année
DESCRIPTION:NERDS member Roberta Sinatra will give a keynote roundtable talk on May 4th in Monaco on her research on the Science of Success\, at the Monte Carlo Prix Femme de l’année. \nAttendants include Princess Charlene of Monaco.
URL:https://nerds.itu.dk/event/roundtable-talk-roberta-sinatra-in-monaco/
CATEGORIES:NERDS away
END:VEVENT
END:VCALENDAR